BEGIN:VCALENDAR
VERSION:2.0
PRODID:-//Pen Pals Fife - ECPv6.15.17//NONSGML v1.0//EN
CALSCALE:GREGORIAN
METHOD:PUBLISH
X-ORIGINAL-URL:https://penpals.site
X-WR-CALDESC:Events for Pen Pals Fife
REFRESH-INTERVAL;VALUE=DURATION:PT1H
X-Robots-Tag:noindex
X-PUBLISHED-TTL:PT1H
BEGIN:VTIMEZONE
TZID:UTC
BEGIN:STANDARD
TZOFFSETFROM:+0000
TZOFFSETTO:+0000
TZNAME:UTC
DTSTART:20240101T000000
END:STANDARD
END:VTIMEZONE
BEGIN:VEVENT
DTSTART;TZID=UTC:20250211T180000
DTEND;TZID=UTC:20250211T193000
DTSTAMP:20260423T022220
CREATED:20260125T160716Z
LAST-MODIFIED:20260125T160803Z
UID:130-1739296800-1739302200@penpals.site
SUMMARY:Creative Social: crochet infinity scarf
DESCRIPTION:Join us for an OG pen pals creative social – learn to make a small infinity scarf in colours or stripes of your choice; pride flags encouraged. Alternatively bring your own crafts\, chat or sit quietly in the corner\, drinks and snacks provided. \nAccess info: 299 High Street\, Kirkcaldy\, KY11JL. Level access; bathroom with level access\, but not an accessible bathroom.
URL:https://penpals.site/event/creative-social-beginner-crochet/
LOCATION:The Print Coop\, 299 High St\, Kirkcaldy
CATEGORIES:creative social,drop-in
END:VEVENT
BEGIN:VEVENT
DTSTART;TZID=UTC:20250215T130000
DTEND;TZID=UTC:20250215T153000
DTSTAMP:20260423T022220
CREATED:20260125T160552Z
LAST-MODIFIED:20260125T160552Z
UID:128-1739624400-1739633400@penpals.site
SUMMARY:Movement and creative wellbeing with Zinzi
DESCRIPTION:Zinzi brings together meditation\, kundalini yoga and movement improvisation to encourage our bodies into the day in a simple way. This 2.5 hour collective practise is inspired by living and working at the rural dance place\, Ponderosa\, where for years Stephanie Maher led a morning practise for visiting dancers and the local community. It has been adapted by Zinzi over the years to accommodate their environments and changing body. They aim to warm our bodies through different practises of being present as well as actual warming movements. They bring the spirit of dancing in nature into the room and encourage not taking things too seriously and giving it a go. There is always the option to opt out and do your own thing. We will mostly stay on or around our mats. Bring what helps you to feel at home in your body and the space; a blanket\, a stone\, an object that helps warm up your life\, a memory that makes you laugh\, the spirits of people no longer in this realm. Or just yourself on that day. Please bring a yoga mat if you have one. Please book your place here.
URL:https://penpals.site/event/movement-and-creative-wellbeing-with-zinzi/
LOCATION:Adam Smith Theatre\, Adam Smith Theatre\, Kirkcaldy
CATEGORIES:workshop
END:VEVENT
END:VCALENDAR